BEGIN:VCALENDAR
VERSION:2.0
PRODID:-//Schwarzwaldweingut Andreas Männle - ECPv6.15.17.1//NONSGML v1.0//EN
CALSCALE:GREGORIAN
METHOD:PUBLISH
X-ORIGINAL-URL:https://schwarzwaldweingut.de
X-WR-CALDESC:Veranstaltungen für Schwarzwaldweingut Andreas Männle
REFRESH-INTERVAL;VALUE=DURATION:PT1H
X-Robots-Tag:noindex
X-PUBLISHED-TTL:PT1H
BEGIN:VTIMEZONE
TZID:Europe/Berlin
BEGIN:DAYLIGHT
TZOFFSETFROM:+0100
TZOFFSETTO:+0200
TZNAME:CEST
DTSTART:20240331T010000
END:DAYLIGHT
BEGIN:STANDARD
TZOFFSETFROM:+0200
TZOFFSETTO:+0100
TZNAME:CET
DTSTART:20241027T010000
END:STANDARD
BEGIN:DAYLIGHT
TZOFFSETFROM:+0100
TZOFFSETTO:+0200
TZNAME:CEST
DTSTART:20250330T010000
END:DAYLIGHT
BEGIN:STANDARD
TZOFFSETFROM:+0200
TZOFFSETTO:+0100
TZNAME:CET
DTSTART:20251026T010000
END:STANDARD
BEGIN:DAYLIGHT
TZOFFSETFROM:+0100
TZOFFSETTO:+0200
TZNAME:CEST
DTSTART:20260329T010000
END:DAYLIGHT
BEGIN:STANDARD
TZOFFSETFROM:+0200
TZOFFSETTO:+0100
TZNAME:CET
DTSTART:20261025T010000
END:STANDARD
BEGIN:DAYLIGHT
TZOFFSETFROM:+0100
TZOFFSETTO:+0200
TZNAME:CEST
DTSTART:20270328T010000
END:DAYLIGHT
BEGIN:STANDARD
TZOFFSETFROM:+0200
TZOFFSETTO:+0100
TZNAME:CET
DTSTART:20271031T010000
END:STANDARD
END:VTIMEZONE
BEGIN:VEVENT
DTSTART;TZID=Europe/Berlin:20260327T184500
DTEND;TZID=Europe/Berlin:20260327T230000
DTSTAMP:20260419T144912
CREATED:20251218T141450Z
LAST-MODIFIED:20260118T221829Z
UID:28498-1774637100-1774652400@schwarzwaldweingut.de
SUMMARY:Wein.Käse. & Schinken. Ausverkauft
DESCRIPTION:Wein.Käse & Schinken.\n27. März 2026 | Einlass: 18:45 Uhr | Beginn: 19:00 Uhr | Preis: 69 €\nTreffpunkt: Vinothek | Veranstaltungsort: Probierstube\nEin Abend für Genießerinnen und Genießer: Tauchen Sie ein in die köstliche Welt von aromatischem Käse\, feinem Schinken und perfekt darauf abgestimmten Weinen! \nFür diese besondere Genussreise präsentieren wir vier ausgewählte Käsesorten sowie zwei erlesene Schinkenspezialitäten von Karlheinz Franz. Mit viel Leidenschaft\, Fachwissen und seinem unverwechselbaren Charme führt er Sie durch die vielfältigen Geschmackswelten – von cremig und mild bis herzhaft und würzig. \nBegleitet wird das kulinarische Erlebnis von Thomas Männle\, der zu jedem Käse & Schinken einen passenden Wein aussucht und Ihnen zeigt\, wie wunderbar sich Schinken- und Käsearomen mit unseren Weinen verbinden.\nPro Käse & Schinken servieren wir Ihnen 0\,1 L Wein – harmonisch abgestimmt\, sorgfältig ausgewählt. \nIm Preis enthalten sind zudem Brot\, Trauben\, Nüsse und Wasser – alles\, was einen perfekten Genussabend abrundet. \nFreuen Sie sich auf einen genussvollen\, inspirierenden Abend voller Aromen\, Geschichten und besonderer Kombinationen. \nWir freuen uns auf Ihren Besuch! \nAusverkauft 
URL:https://schwarzwaldweingut.de/event/wein-kaese-schinken-freitag-27-maerz-2026/
ATTACH;FMTTYPE=image/jpeg:https://schwarzwaldweingut.de/wp-content/uploads/2025/12/Events-Titelbild-Webseite-.jpg
ORGANIZER;CN="Schwarzwaldweingut Andreas M%C3%A4nnle":MAILTO:info@schwarzwaldweingut.de
END:VEVENT
BEGIN:VEVENT
DTSTART;TZID=Europe/Berlin:20251128T190000
DTEND;TZID=Europe/Berlin:20251128T230000
DTSTAMP:20260419T144912
CREATED:20240703T072041Z
LAST-MODIFIED:20250922T131346Z
UID:23945-1764356400-1764370800@schwarzwaldweingut.de
SUMMARY:Wein.Gut.Käse. 28. November 2025
DESCRIPTION:Wein.Gut.Käse. \n28. November 2025 | Einlass: 18:45 Uhr | Beginn: 19:00 Uhr | Preis: 69 €\nTreffpunkt: Vinothek | Veranstaltungsort: Probierstube \nEin Abend für Genießer: Entdecken Sie die köstliche Liaison von feinem Käse und erlesenem Wein!\nDenn wie in jeder guten Beziehung gilt auch hier: Nur das perfekte Paar entfaltet seinen vollen Reiz. \nKäse-Experte Karlheinz Franz nimmt Sie mit auf eine geschmackvolle Reise durch die Welt der Käsesorten – von cremig-mild bis würzig-kräftig. Mit viel Charme und Fachwissen gibt er eine unterhaltsame Einführung in die Kunst des Kombinierens. \nThomas Männle begleitet den Abend mit einer erlesenen Auswahl unserer Weine und verrät\, welche Tropfen sich besonders harmonisch mit welchem Käse verbinden. \nFreuen Sie sich auf eine unterhaltsame Paarberatung der besonderen Art – voll Genuss\, Wissen und Inspiration. \nAUSVERKAUFT  \nWir freuen uns auf Ihren Besuch!
URL:https://schwarzwaldweingut.de/event/wein-gut-kaese-28-november-2024/
LOCATION:Schwarzwaldweingut Andreas Männle\, Heimbach 12\, Durbach\, 77770\, Deutschland
ATTACH;FMTTYPE=image/png:https://schwarzwaldweingut.de/wp-content/uploads/2023/12/Wein.Gut_.Kaese_Feb-1.png
ORGANIZER;CN="Schwarzwaldweingut Andreas M%C3%A4nnle":MAILTO:info@schwarzwaldweingut.de
END:VEVENT
BEGIN:VEVENT
DTSTART;TZID=Europe/Berlin:20251107T190000
DTEND;TZID=Europe/Berlin:20251107T220000
DTSTAMP:20260419T144912
CREATED:20250218T134529Z
LAST-MODIFIED:20251023T134433Z
UID:25910-1762542000-1762552800@schwarzwaldweingut.de
SUMMARY:WEINCLUBBER #16
DESCRIPTION:WEINCLUBBER #16\n07.11.2025 Start um: 19:00 \nWEINCLUBBER #16 \nPräsentiert von den teilnehmenden Weinbaubetrieben (Sonderveranstaltung) \n____________________________ \nDatum: 07. November 2025 \nWeinprobe:\n-> Einlass: 19:00 Uhr\n-> Beginn: 19:30 Uhr\nWeinparty: 22:00 Uhr\nEinlass: Ab 21 Jahren \nMusik: DJ D-One\nVVK-Tickets: \n-> bei allen teilnehmenden Betrieben für 29€\n-> Online für 33€ (inkl. Gebühr) hier: In der Freiaum App oder unter https://www.freiraum-og.de/event/68bead1af735464c95592304\n-> Weinparty ab 22 Uhr: 10€ (ohne Weinprobe) \n____________________________ \n>>> AB 19:30 UHR: <<< \nJung\, innovativ\, dynamisch ist das Motto.\nEuch erwartet eine Weinprobe der besonderen Art. \nIM TICKETPREIS SIND SÄMTLICHE WEINE DER TEILNEHMENDEN BETRIEBE WÄHREND DER PROBE INKLUSIVE \nTeilnehmende Weinbaubetriebe: \nAffentaler Winzer eG \nSchwarzwald. Wein. Haus Andreas Männle \nDurbacher Winzer eG \nWeinmanufaktur Gengenbach-Offenburg \nWG Rammersweier \nOberkircher Winzer \nWeingut Freiherr von und zu Franckenstein \nWeingut Schloss Ortenberg \nProbiert die Weine\, unterhaltet euch mit Freunden und genießt coolen Clubsound in unserem schönen Freiraum-Ambiente. \nZimpfer´s versorgt euch mit leckeren Raclette-Baguette!  (nicht im Ticketpreis inbegriffen) \n-> https://www.zimpfers.de \n>>> AB 22:00 UHR: <<< \nErlebe eine besondere Atmosphäre. Wir haben die neuesten Trends der Weinszene an unserer BAR – probiert in unserer eigenen „WEINBAR“ die facettenreiche Weinauswahl. Es wird getanzt und gefeiert! \nAbendkasse: 10 Euro (ohne Weinprobe) \n________________________ \nBesuche uns und erlebe deinen Freiraum!
URL:https://schwarzwaldweingut.de/event/weinclubber-15/
LOCATION:Freiraum Offenburg\, Marlener Str. 5\, Offenburg\, 77656\, Deutschland
ATTACH;FMTTYPE=image/png:https://schwarzwaldweingut.de/wp-content/uploads/2025/02/Screenshot-2025-10-23-153827.png
END:VEVENT
END:VCALENDAR